Workbook
Name _01_09_96: #REF!
Name _PL1: #REF!
Name a: #REF!
Name aa: #REF!
Name ACIDO: #REF!
Name AÇO: #REF!
Name AÇO_CA_50_3_16: #REF!
Name ADESIVO_PVC: #REF!
Name AGUA_10LT: #REF!
Name AGUARRAZ: #REF!
Name AJUDANTE: #REF!
Name ALIZAR_MAD_LEI: #REF!
Name ALTA: #REF!
Name amarela: #REF!
Name AMONIA: #REF!
Name AREIA: #REF!
Name ARMAÇÃO_CONCRETO: #REF!
Name ARMADOR: #REF!
Name ARMARIO_90X60X17_CM: #REF!
Name ASSENTO_PLASTICO: #REF!
Name ATERRO_ARENOSO: #REF!
Name azul: #REF!
Name AZULEGISTA: #REF!
Name AZULEJO_15X15: #REF!
Name AZULSINAL: #REF!
Name b: #REF!
Name BDI: #REF!
Name BDI_4: #REF!
Name BDI_5: #REF!
Name BDI_6: #REF!
Name BG: #REF!
Name BGU: #REF!
Name BLOCO.CONC.CELULAR.12: #REF!
Name BLOCO.CONCRETO.14X19X39: #REF!
Name BLOCO.CONCRETO.19X19X39: #REF!
Name BLOCO.CONCRETO.9X19X39: #REF!
Name BLOCO_VIDRO: #REF!
Name BR: #REF!
Name BRITA1: #REF!
Name CAIXILHO_MAD_LEI: #REF!
Name CAL: #REF!
Name CBU: #REF!
Name CBUII: #REF!
Name CBUQB: #REF!
Name CBUQc: #REF!
Name CERAMICA_30X30_PEI_IV: #REF!
Name CERAMICA_30x30_PEI_V: #REF!
Name CIMENTO: #REF!
Name CIMENTO_BRANCO: #REF!
Name CIMENTO_COLA: #REF!
Name CLIENTE: #REF!
Name COMPENSA.PLAST: #REF!
Name COMPENSADO_RES_10MM: #REF!
Name COMPENSADO_RES_12MM: #REF!
Name CONCRETO_18_MPA: #REF!
Name CPU_66: #REF!
Name d: #REF!
Name daad: #REF!
Name DATA: #REF!
Name Data_Final: #REF!

Sheet PE_243_2026
B1: PREFEITURA MUNICIPAL DE PORTO ALEGRE
B2: =#REF! -> #REF!
C4: PE 243/2026 REGISTRO DE PREÇOS DE MANUTENÇÃO DE SUBESTAÇÕES DE ENERGIA
B5: PLANILHA ORÇAMENTÁRIA
C6: Processo SEI: | D6: 25.0.000148870-0 | P6: Tabela Não Desonerada
B7: Objeto: | D7: Registro de preços para manutenção de subestações de energia e redes alimentadoras para o município de Porto Alegre/RS | P7: Encargos sociais SINAPI (hora): | Q7: 1.1195
B8: Local: | D8: (preencher este campo com o local da prestação dos serviços) | P8: Encargos sociais SINAPI (mês): | Q8: 0.6929
B9: Item | C9: Código | D9: Fonte | E9: Descrição | F9: Unid. | G9: Quant. | H9: Custo Unitário (R$) | L9: BDI | M9: Preço Unitário (R$) | N9: Preço Total (R$)
I10: Mão de Obra | J10: Material + Equipamento | K10: Total | O10: Mão de Obra | P10: Material + Equipamento | Q10: Total | Z10: =Q168-1046018.29 -> -1046018.3
X11: original | Y11: =Y168 -> #REF!
B12: 1 | E12: Documentos técnicos | Q12: =Q16 -> 0
B13: 1.1 | C13: CCU-34 | D13: CCU | E13: VISTORIA TÉCNICA DE SUBESTAÇÃO E REDE AÉREA DE ALIMENTAÇÃO | F13: UN | I13: 877.68 | J13: 0 | K13: =ROUNDDOWN(I13+J13,2) -> 877.68 | L13: 0.2519 | M13: =IFERROR(IF(L13="-",(ROUND(K13,2)),(ROUND(K13*(1+L13),2))),"-") -> 1098.77 | O13: =IF(($J13=0),$Q13,IF(I13=0,0,IF($L13<>"-",IFERROR(TRUNC(TRUNC((I13*(1+$L13)),2)*$G13,2),0),IFERROR(TRUNC(I13*$G13,2),0)))) -> 0 | P13: =IF(J13=0,0,Q13-O13) -> 0 | Q13: =IFERROR(ROUND(ROUND(M13,2)*ROUND(G13,2),2),0) -> 0 | T13: =B13 -> 1.1 | U13: =IF(J13=0,Q13-O13) -> 0 | X13: =IFERROR(IF(OR($D13="ANP",$D13="DAER",$D13="CONSULTORIA DNIT",$D13="PREGÃO ELETRÔNICO",$D13="DMLU",$D13="DMAE",$D13="CEEE",$D13="EPTC",$D13="ORSE",$D13="SEINFRA",$D13="CREA",$D13="CAU",$D13="CEHOP",$D13="SIURB",$D13="DER-PR",$D13="SUDECAP",$D13=#REF!,$D13=#REF!),VLOOKUP($C13,#REF!,7,FALSE),IF($D13="INDEXADO",VLOOKUP($C13,#REF!,17,FALSE),IF($D13="CCU",VLOOKUP($C13,#REF!,6,FALSE),IF($D13="MERCADO",VLOOKUP(PE_243_2026!$C13,#REF!,8,FALSE),IF($D13="PLEO",VLOOKUP($C13,#REF!,4,FALSE),IF($D13="SICRO",VLOOKUP($C13,#REF!,6,FALSE),IF($D13="SINAPI",IFERROR((VLOOKUP($C13,#REF!,5,FALSE)),"-"),"-"))))))),0) -> 0 | Y13: =IF(OR($D13="ANP",$D13="DAER",$D13="CONSULTORIA DNIT",$D13="PREGÃO ELETRÔNICO",$D13="DMLU",$D13="DMAE",$D13="CEEE",$D13="EPTC",$D13="ORSE",$D13="SEINFRA",$D13="CREA",$D13="CAU",$D13="CEHOP",$D13="SIURB",$D13="DER-PR",$D13="SUDECAP",$D13=#REF!,$D13=#REF!),VLOOKUP($C13,#REF!,8,FALSE),IF($D13="INDEXADO",VLOOKUP($C13,#REF!,18,FALSE),IF($D13="CCU",VLOOKUP($C13,#REF!,7,FALSE),IF($D13="MERCADO",VLOOKUP(PE_243_2026!$C13,#REF!,9,FALSE),IF($D13="PLEO",VLOOKUP($C13,#REF!,4,FALSE),IF($D13="SICRO",VLOOKUP($C13,#REF!,7,FALSE),IF($D13="SINAPI",IFERROR((VLOOKUP($C13,#REF!,6,FALSE)),(VLOOKUP($C13,#REF!,27,FALSE))),"-"))))))) -> #REF! | Z13: 1098.76 | AA13: =M13-Z13 -> 0.01 | AB13: =M13*G13 -> 0 | AC13: =AA13*G13 -> 0
B14: 1.2 | C14: CCU-47 | D14: CCU | E14: RELATÓRIO TÉCNICO DE ATUALIZAÇÃO E APROVAÇÃO DE PROJETOS JUNTO À CONCESSIONÁRIA DE ENERGIA | F14: UN | I14: 3806.46 | J14: 214.1925 | K14: =ROUNDDOWN(I14+J14,2) -> 4020.65 | L14: 0.2519 | M14: =IFERROR(IF(L14="-",(ROUND(K14,2)),(ROUND(K14*(1+L14),2))),"-") -> 5033.45 | O14: =IF(AND($H14=0,$J14=0),$Q14,IF(I14=0,0,IF($L14<>"-",IFERROR(TRUNC(TRUNC((I14*(1+$L14)),2)*$G14,2),0),IFERROR(TRUNC(I14*$G14,2),0)))) -> 0 | P14: =IF(J14=0,0,Q14-O14-N14) -> 0 | Q14: =IFERROR(ROUND(ROUND(M14,2)*ROUND(G14,2),2),0) -> 0 | T14: =B14 -> 1.2 | U14: =IF(J14=0,Q14-O14) -> FALSE | X14: =IFERROR(IF(OR($D14="ANP",$D14="DAER",$D14="CONSULTORIA DNIT",$D14="PREGÃO ELETRÔNICO",$D14="DMLU",$D14="DMAE",$D14="CEEE",$D14="EPTC",$D14="ORSE",$D14="SEINFRA",$D14="CREA",$D14="CAU",$D14="CEHOP",$D14="SIURB",$D14="DER-PR",$D14="SUDECAP",$D14=#REF!,$D14=#REF!),VLOOKUP($C14,#REF!,7,FALSE),IF($D14="INDEXADO",VLOOKUP($C14,#REF!,17,FALSE),IF($D14="CCU",VLOOKUP($C14,#REF!,6,FALSE),IF($D14="MERCADO",VLOOKUP(PE_243_2026!$C14,#REF!,8,FALSE),IF($D14="PLEO",VLOOKUP($C14,#REF!,4,FALSE),IF($D14="SICRO",VLOOKUP($C14,#REF!,6,FALSE),IF($D14="SINAPI",IFERROR((VLOOKUP($C14,#REF!,5,FALSE)),"-"),"-"))))))),0) -> 0 | Y14: =IF(OR($D14="ANP",$D14="DAER",$D14="CONSULTORIA DNIT",$D14="PREGÃO ELETRÔNICO",$D14="DMLU",$D14="DMAE",$D14="CEEE",$D14="EPTC",$D14="ORSE",$D14="SEINFRA",$D14="CREA",$D14="CAU",$D14="CEHOP",$D14="SIURB",$D14="DER-PR",$D14="SUDECAP",$D14=#REF!,$D14=#REF!),VLOOKUP($C14,#REF!,8,FALSE),IF($D14="INDEXADO",VLOOKUP($C14,#REF!,18,FALSE),IF($D14="CCU",VLOOKUP($C14,#REF!,7,FALSE),IF($D14="MERCADO",VLOOKUP(PE_243_2026!$C14,#REF!,9,FALSE),IF($D14="PLEO",VLOOKUP($C14,#REF!,4,FALSE),IF($D14="SICRO",VLOOKUP($C14,#REF!,7,FALSE),IF($D14="SINAPI",IFERROR((VLOOKUP($C14,#REF!,6,FALSE)),(VLOOKUP($C14,#REF!,27,FALSE))),"-"))))))) -> #REF! | Z14: 5033.45 | AA14: =M14-Z14 -> 0 | AB14: =M14*G14 -> 0 | AC14: =AA14*G14 -> 0
T15: =B15 -> 0 | U15: =IF(J15=0,Q15-O15) -> 0
M16: Subtotal Documentos técnicos | O16: =SUM(O13:O15) -> 0 | P16: =SUM(P13:P15) -> 0 | Q16: =SUM(Q13:Q15) -> 0 | S16: 1 | U16: =IF(J16=0,Q16-O16) -> 0 | V16: =SUM(O16:P16) -> 0 | W16: =IF(V16<>Q16,"erro","ok") -> ok
T17: =B17 -> 0 | U17: =IF(J17=0,Q17-O17) -> 0
B18: 2 | E18: Manutenção das instalações | Q18: =Q35 -> 0 | T18: =B18 -> 2 | U18: =IF(J18=0,Q18-O18) -> 0
B19: 2.1 | C19: 98524 | D19: SINAPI | E19: LIMPEZA MANUAL DE VEGETAÇÃO EM TERRENO COM ENXADA. AF_03/2024 | F19: M2 | I19: 3.9675 | J19: 0 | K19: =ROUND(I19+J19,20) -> 3.9675 | L19: 0.2519 | M19: =IFERROR(IF(L19="-",(ROUND(K19,2)),(ROUND(K19*(1+L19),2))),"-") -> 4.97 | O19: =IF(AND($H19=0,$J19=0),$Q19,IF(I19=0,0,IF($L19<>"-",IFERROR(TRUNC(TRUNC((I19*(1+$L19)),2)*$G19,2),0),IFERROR(TRUNC(I19*$G19,2),0)))) -> 0 | P19: =IF(J19=0,0,Q19-O19-N19) -> 0 | Q19: =IFERROR(ROUND(ROUND(M19,2)*ROUND(G19,2),2),0) -> 0 | T19: =B19 -> 2.1 | U19: =IF(J19=0,Q19-O19) -> 0 | X19: =IFERROR(IF(OR($D19="ANP",$D19="DAER",$D19="CONSULTORIA DNIT",$D19="PREGÃO ELETRÔNICO",$D19="DMLU",$D19="DMAE",$D19="CEEE",$D19="EPTC",$D19="ORSE",$D19="SEINFRA",$D19="CREA",$D19="CAU",$D19="CEHOP",$D19="SIURB",$D19="DER-PR",$D19="SUDECAP",$D19=#REF!,$D19=#REF!),VLOOKUP($C19,#REF!,7,FALSE),IF($D19="INDEXADO",VLOOKUP($C19,#REF!,17,FALSE),IF($D19="CCU",VLOOKUP($C19,#REF!,6,FALSE),IF($D19="MERCADO",VLOOKUP(PE_243_2026!$C19,#REF!,8,FALSE),IF($D19="PLEO",VLOOKUP($C19,#REF!,4,FALSE),IF($D19="SICRO",VLOOKUP($C19,#REF!,6,FALSE),IF($D19="SINAPI",IFERROR((VLOOKUP($C19,#REF!,5,FALSE)),"-"),"-"))))))),0) -> 0 | Y19: =IF(OR($D19="ANP",$D19="DAER",$D19="CONSULTORIA DNIT",$D19="PREGÃO ELETRÔNICO",$D19="DMLU",$D19="DMAE",$D19="CEEE",$D19="EPTC",$D19="ORSE",$D19="SEINFRA",$D19="CREA",$D19="CAU",$D19="CEHOP",$D19="SIURB",$D19="DER-PR",$D19="SUDECAP",$D19=#REF!,$D19=#REF!),VLOOKUP($C19,#REF!,8,FALSE),IF($D19="INDEXADO",VLOOKUP($C19,#REF!,18,FALSE),IF($D19="CCU",VLOOKUP($C19,#REF!,7,FALSE),IF($D19="MERCADO",VLOOKUP(PE_243_2026!$C19,#REF!,9,FALSE),IF($D19="PLEO",VLOOKUP($C19,#REF!,4,FALSE),IF($D19="SICRO",VLOOKUP($C19,#REF!,7,FALSE),IF($D19="SINAPI",IFERROR((VLOOKUP($C19,#REF!,6,FALSE)),(VLOOKUP($C19,#REF!,27,FALSE))),"-"))))))) -> #REF! | Z19: 4.96 | AA19: =M19-Z19 -> 0.01 | AB19: =M19*G19 -> 0 | AC19: =AA19*G19 -> 0
B20: 2.2 | C20: 99814 | D20: SINAPI | E20: LIMPEZA DE SUPERFÍCIE PISO OU PAREDE COM JATO DE ALTA PRESSÃO. AF_10/2025 | F20: M2 | I20: 1.2675 | J20: 0.0375 | K20: =ROUND(I20+J20,20) -> 1.305 | L20: 0.2519 | M20: =IFERROR(IF(L20="-",(ROUND(K20,2)),(ROUND(K20*(1+L20),2))),"-") -> 1.63 | O20: =IF(AND($H20=0,$J20=0),$Q20,IF(I20=0,0,IF($L20<>"-",IFERROR(TRUNC(TRUNC((I20*(1+$L20)),2)*$G20,2),0),IFERROR(TRUNC(I20*$G20,2),0)))) -> 0 | P20: =IF(J20=0,0,Q20-O20-N20) -> 0 | Q20: =IFERROR(ROUND(ROUND(M20,2)*ROUND(G20,2),2),0) -> 0 | T20: =B20 -> 2.2 | U20: =IF(J20=0,Q20-O20) -> FALSE | X20: =IFERROR(IF(OR($D20="ANP",$D20="DAER",$D20="CONSULTORIA DNIT",$D20="PREGÃO ELETRÔNICO",$D20="DMLU",$D20="DMAE",$D20="CEEE",$D20="EPTC",$D20="ORSE",$D20="SEINFRA",$D20="CREA",$D20="CAU",$D20="CEHOP",$D20="SIURB",$D20="DER-PR",$D20="SUDECAP",$D20=#REF!,$D20=#REF!),VLOOKUP($C20,#REF!,7,FALSE),IF($D20="INDEXADO",VLOOKUP($C20,#REF!,17,FALSE),IF($D20="CCU",VLOOKUP($C20,#REF!,6,FALSE),IF($D20="MERCADO",VLOOKUP(PE_243_2026!$C20,#REF!,8,FALSE),IF($D20="PLEO",VLOOKUP($C20,#REF!,4,FALSE),IF($D20="SICRO",VLOOKUP($C20,#REF!,6,FALSE),IF($D20="SINAPI",IFERROR((VLOOKUP($C20,#REF!,5,FALSE)),"-"),"-"))))))),0) -> 0 | Y20: =IF(OR($D20="ANP",$D20="DAER",$D20="CONSULTORIA DNIT",$D20="PREGÃO ELETRÔNICO",$D20="DMLU",$D20="DMAE",$D20="CEEE",$D20="EPTC",$D20="ORSE",$D20="SEINFRA",$D20="CREA",$D20="CAU",$D20="CEHOP",$D20="SIURB",$D20="DER-PR",$D20="SUDECAP",$D20=#REF!,$D20=#REF!),VLOOKUP($C20,#REF!,8,FALSE),IF($D20="INDEXADO",VLOOKUP($C20,#REF!,18,FALSE),IF($D20="CCU",VLOOKUP($C20,#REF!,7,FALSE),IF($D20="MERCADO",VLOOKUP(PE_243_2026!$C20,#REF!,9,FALSE),IF($D20="PLEO",VLOOKUP($C20,#REF!,4,FALSE),IF($D20="SICRO",VLOOKUP($C20,#REF!,7,FALSE),IF($D20="SINAPI",IFERROR((VLOOKUP($C20,#REF!,6,FALSE)),(VLOOKUP($C20,#REF!,27,FALSE))),"-"))))))) -> #REF! | Z20: 1.63 | AA20: =M20-Z20 -> 0 | AB20: =M20*G20 -> 0 | AC20: =AA20*G20 -> 0
B21: 2.3 | C21: 104790 | D21: SINAPI | E21: DEMOLIÇÃO DE PISO DE CONCRETO SIMPLES, DE FORMA MECANIZADA COM MARTELETE, SEM REAPROVEITAMENTO. AF_09/2023 | F21: M3 | I21: 58.8 | J21: 37.425 | K21: =ROUND(I21+J21,20) -> 96.225 | L21: 0.2519 | M21: =IFERROR(IF(L21="-",(ROUND(K21,2)),(ROUND(K21*(1+L21),2))),"-") -> 120.46 | O21: =IF(AND($H21=0,$J21=0),$Q21,IF(I21=0,0,IF($L21<>"-",IFERROR(TRUNC(TRUNC((I21*(1+$L21)),2)*$G21,2),0),IFERROR(TRUNC(I21*$G21,2),0)))) -> 0 | P21: =IF(J21=0,0,Q21-O21-N21) -> 0 | Q21: =IFERROR(ROUND(ROUND(M21,2)*ROUND(G21,2),2),0) -> 0 | T21: =B21 -> 2.3 | U21: =IF(J21=0,Q21-O21) -> FALSE | X21: =IFERROR(IF(OR($D21="ANP",$D21="DAER",$D21="CONSULTORIA DNIT",$D21="PREGÃO ELETRÔNICO",$D21="DMLU",$D21="DMAE",$D21="CEEE",$D21="EPTC",$D21="ORSE",$D21="SEINFRA",$D21="CREA",$D21="CAU",$D21="CEHOP",$D21="SIURB",$D21="DER-PR",$D21="SUDECAP",$D21=#REF!,$D21=#REF!),VLOOKUP($C21,#REF!,7,FALSE),IF($D21="INDEXADO",VLOOKUP($C21,#REF!,17,FALSE),IF($D21="CCU",VLOOKUP($C21,#REF!,6,FALSE),IF($D21="MERCADO",VLOOKUP(PE_243_2026!$C21,#REF!,8,FALSE),IF($D21="PLEO",VLOOKUP($C21,#REF!,4,FALSE),IF($D21="SICRO",VLOOKUP($C21,#REF!,6,FALSE),IF($D21="SINAPI",IFERROR((VLOOKUP($C21,#REF!,5,FALSE)),"-"),"-"))))))),0) -> 0 | Y21: =IF(OR($D21="ANP",$D21="DAER",$D21="CONSULTORIA DNIT",$D21="PREGÃO ELETRÔNICO",$D21="DMLU",$D21="DMAE",$D21="CEEE",$D21="EPTC",$D21="ORSE",$D21="SEINFRA",$D21="CREA",$D21="CAU",$D21="CEHOP",$D21="SIURB",$D21="DER-PR",$D21="SUDECAP",$D21=#REF!,$D21=#REF!),VLOOKUP($C21,#REF!,8,FALSE),IF($D21="INDEXADO",VLOOKUP($C21,#REF!,18,FALSE),IF($D21="CCU",VLOOKUP($C21,#REF!,7,FALSE),IF($D21="MERCADO",VLOOKUP(PE_243_2026!$C21,#REF!,9,FALSE),IF($D21="PLEO",VLOOKUP($C21,#REF!,4,FALSE),IF($D21="SICRO",VLOOKUP($C21,#REF!,7,FALSE),IF($D21="SINAPI",IFERROR((VLOOKUP($C21,#REF!,6,FALSE)),(VLOOKUP($C21,#REF!,27,FALSE))),"-"))))))) -> #REF! | Z21: 120.46 | AA21: =M21-Z21 -> 0 | AB21: =M21*G21 -> 0 | AC21: =AA21*G21 -> 0
B22: 2.4 | C22: 97644 | D22: SINAPI | E22: REMOÇÃO DE PORTAS, DE FORMA MANUAL, SEM REAPROVEITAMENTO. AF_09/2023 | F22: M2 | I22: 8.1525 | J22: 0 | K22: =ROUND(I22+J22,20) -> 8.1525 | L22: 0.2519 | M22: =IFERROR(IF(L22="-",(ROUND(K22,2)),(ROUND(K22*(1+L22),2))),"-") -> 10.21 | O22: =IF(AND($H22=0,$J22=0),$Q22,IF(I22=0,0,IF($L22<>"-",IFERROR(TRUNC(TRUNC((I22*(1+$L22)),2)*$G22,2),0),IFERROR(TRUNC(I22*$G22,2),0)))) -> 0 | P22: =IF(J22=0,0,Q22-O22-N22) -> 0 | Q22: =IFERROR(ROUND(ROUND(M22,2)*ROUND(G22,2),2),0) -> 0 | T22: =B22 -> 2.4 | U22: =IF(J22=0,Q22-O22) -> 0 | X22: =IFERROR(IF(OR($D22="ANP",$D22="DAER",$D22="CONSULTORIA DNIT",$D22="PREGÃO ELETRÔNICO",$D22="DMLU",$D22="DMAE",$D22="CEEE",$D22="EPTC",$D22="ORSE",$D22="SEINFRA",$D22="CREA",$D22="CAU",$D22="CEHOP",$D22="SIURB",$D22="DER-PR",$D22="SUDECAP",$D22=#REF!,$D22=#REF!),VLOOKUP($C22,#REF!,7,FALSE),IF($D22="INDEXADO",VLOOKUP($C22,#REF!,17,FALSE),IF($D22="CCU",VLOOKUP($C22,#REF!,6,FALSE),IF($D22="MERCADO",VLOOKUP(PE_243_2026!$C22,#REF!,8,FALSE),IF($D22="PLEO",VLOOKUP($C22,#REF!,4,FALSE),IF($D22="SICRO",VLOOKUP($C22,#REF!,6,FALSE),IF($D22="SINAPI",IFERROR((VLOOKUP($C22,#REF!,5,FALSE)),"-"),"-"))))))),0) -> 0 | Y22: =IF(OR($D22="ANP",$D22="DAER",$D22="CONSULTORIA DNIT",$D22="PREGÃO ELETRÔNICO",$D22="DMLU",$D22="DMAE",$D22="CEEE",$D22="EPTC",$D22="ORSE",$D22="SEINFRA",$D22="CREA",$D22="CAU",$D22="CEHOP",$D22="SIURB",$D22="DER-PR",$D22="SUDECAP",$D22=#REF!,$D22=#REF!),VLOOKUP($C22,#REF!,8,FALSE),IF($D22="INDEXADO",VLOOKUP($C22,#REF!,18,FALSE),IF($D22="CCU",VLOOKUP($C22,#REF!,7,FALSE),IF($D22="MERCADO",VLOOKUP(PE_243_2026!$C22,#REF!,9,FALSE),IF($D22="PLEO",VLOOKUP($C22,#REF!,4,FALSE),IF($D22="SICRO",VLOOKUP($C22,#REF!,7,FALSE),IF($D22="SINAPI",IFERROR((VLOOKUP($C22,#REF!,6,FALSE)),(VLOOKUP($C22,#REF!,27,FALSE))),"-"))))))) -> #REF! | Z22: 10.2 | AA22: =M22-Z22 -> 0.01 | AB22: =M22*G22 -> 0 | AC22: =AA22*G22 -> 0
B23: 2.5 | C23: 94994 | D23: SINAPI | E23: EXECUÇÃO DE PASSEIO (CALÇADA) OU PISO DE CONCRETO COM CONCRETO MOLDADO IN LOCO, FEITO EM OBRA, ACABAMENTO CONVENCIONAL, ESPESSURA 8 CM, ARMADO. AF_08/2022 | F23: M2 | I23: 21.585 | J23: 55.4925 | K23: =ROUND(I23+J23,20) -> 77.0775 | L23: 0.2519 | M23: =IFERROR(IF(L23="-",(ROUND(K23,2)),(ROUND(K23*(1+L23),2))),"-") -> 96.49 | O23: =IF(AND($H23=0,$J23=0),$Q23,IF(I23=0,0,IF($L23<>"-",IFERROR(TRUNC(TRUNC((I23*(1+$L23)),2)*$G23,2),0),IFERROR(TRUNC(I23*$G23,2),0)))) -> 0 | P23: =IF(J23=0,0,Q23-O23-N23) -> 0 | Q23: =IFERROR(ROUND(ROUND(M23,2)*ROUND(G23,2),2),0) -> 0 | T23: =B23 -> 2.5 | U23: =IF(J23=0,Q23-O23) -> FALSE | X23: =IFERROR(IF(OR($D23="ANP",$D23="DAER",$D23="CONSULTORIA DNIT",$D23="PREGÃO ELETRÔNICO",$D23="DMLU",$D23="DMAE",$D23="CEEE",$D23="EPTC",$D23="ORSE",$D23="SEINFRA",$D23="CREA",$D23="CAU",$D23="CEHOP",$D23="SIURB",$D23="DER-PR",$D23="SUDECAP",$D23=#REF!,$D23=#REF!),VLOOKUP($C23,#REF!,7,FALSE),IF($D23="INDEXADO",VLOOKUP($C23,#REF!,17,FALSE),IF($D23="CCU",VLOOKUP($C23,#REF!,6,FALSE),IF($D23="MERCADO",VLOOKUP(PE_243_2026!$C23,#REF!,8,FALSE),IF($D23="PLEO",VLOOKUP($C23,#REF!,4,FALSE),IF($D23="SICRO",VLOOKUP($C23,#REF!,6,FALSE),IF($D23="SINAPI",IFERROR((VLOOKUP($C23,#REF!,5,FALSE)),"-"),"-"))))))),0) -> 0 | Y23: =IF(OR($D23="ANP",$D23="DAER",$D23="CONSULTORIA DNIT",$D23="PREGÃO ELETRÔNICO",$D23="DMLU",$D23="DMAE",$D23="CEEE",$D23="EPTC",$D23="ORSE",$D23="SEINFRA",$D23="CREA",$D23="CAU",$D23="CEHOP",$D23="SIURB",$D23="DER-PR",$D23="SUDECAP",$D23=#REF!,$D23=#REF!),VLOOKUP($C23,#REF!,8,FALSE),IF($D23="INDEXADO",VLOOKUP($C23,#REF!,18,FALSE),IF($D23="CCU",VLOOKUP($C23,#REF!,7,FALSE),IF($D23="MERCADO",VLOOKUP(PE_243_2026!$C23,#REF!,9,FALSE),IF($D23="PLEO",VLOOKUP($C23,#REF!,4,FALSE),IF($D23="SICRO",VLOOKUP($C23,#REF!,7,FALSE),IF($D23="SINAPI",IFERROR((VLOOKUP($C23,#REF!,6,FALSE)),(VLOOKUP($C23,#REF!,27,FALSE))),"-"))))))) -> #REF! | Z23: 96.49 | AA23: =M23-Z23 -> 0 | AB23: =M23*G23 -> 0 | AC23: =AA23*G23 -> 0
B24: 2.6 | C24: CCU-04 | D24: CCU | E24: CERCA COM MOURÕES DE CONCRETO, RETO, H=3,00 M, ESPAÇAMENTO DE 2,5 M, CRAVADOS 0,5 M, TELA ARAME GALVANIZADO REVESTIDO COM POLÍMERO, MALHA HEXAGONAL 8X10CM - FORNECIMENTO E INSTALAÇÃO | F24: M | I24: 15.06 | J24: 150.6525 | K24: =ROUND(I24+J24,20) -> 165.7125 | L24: 0.2519 | M24: =IFERROR(IF(L24="-",(ROUND(K24,2)),(ROUND(K24*(1+L24),2))),"-") -> 207.46 | O24: =IF(AND($H24=0,$J24=0),$Q24,IF(I24=0,0,IF($L24<>"-",IFERROR(TRUNC(TRUNC((I24*(1+$L24)),2)*$G24,2),0),IFERROR(TRUNC(I24*$G24,2),0)))) -> 0 | P24: =IF(J24=0,0,Q24-O24-N24) -> 0 | Q24: =IFERROR(ROUND(ROUND(M24,2)*ROUND(G24,2),2),0) -> 0 | T24: =B24 -> 2.6 | U24: =IF(J24=0,Q24-O24) -> FALSE | X24: =IFERROR(IF(OR($D24="ANP",$D24="DAER",$D24="CONSULTORIA DNIT",$D24="PREGÃO ELETRÔNICO",$D24="DMLU",$D24="DMAE",$D24="CEEE",$D24="EPTC",$D24="ORSE",$D24="SEINFRA",$D24="CREA",$D24="CAU",$D24="CEHOP",$D24="SIURB",$D24="DER-PR",$D24="SUDECAP",$D24=#REF!,$D24=#REF!),VLOOKUP($C24,#REF!,7,FALSE),IF($D24="INDEXADO",VLOOKUP($C24,#REF!,17,FALSE),IF($D24="CCU",VLOOKUP($C24,#REF!,6,FALSE),IF($D24="MERCADO",VLOOKUP(PE_243_2026!$C24,#REF!,8,FALSE),IF($D24="PLEO",VLOOKUP($C24,#REF!,4,FALSE),IF($D24="SICRO",VLOOKUP($C24,#REF!,6,FALSE),IF($D24="SINAPI",IFERROR((VLOOKUP($C24,#REF!,5,FALSE)),"-"),"-"))))))),0) -> 0 | Y24: =IF(OR($D24="ANP",$D24="DAER",$D24="CONSULTORIA DNIT",$D24="PREGÃO ELETRÔNICO",$D24="DMLU",$D24="DMAE",$D24="CEEE",$D24="EPTC",$D24="ORSE",$D24="SEINFRA",$D24="CREA",$D24="CAU",$D24="CEHOP",$D24="SIURB",$D24="DER-PR",$D24="SUDECAP",$D24=#REF!,$D24=#REF!),VLOOKUP($C24,#REF!,8,FALSE),IF($D24="INDEXADO",VLOOKUP($C24,#REF!,18,FALSE),IF($D24="CCU",VLOOKUP($C24,#REF!,7,FALSE),IF($D24="MERCADO",VLOOKUP(PE_243_2026!$C24,#REF!,9,FALSE),IF($D24="PLEO",VLOOKUP($C24,#REF!,4,FALSE),IF($D24="SICRO",VLOOKUP($C24,#REF!,7,FALSE),IF($D24="SINAPI",IFERROR((VLOOKUP($C24,#REF!,6,FALSE)),(VLOOKUP($C24,#REF!,27,FALSE))),"-"))))))) -> #REF! | Z24: 207.45 | AA24: =M24-Z24 -> 0.01 | AB24: =M24*G24 -> 0 | AC24: =AA24*G24 -> 0
B25: 2.7 | C25: CCU-06 | D25: CCU | E25: PORTAO EM TELA ARAME GALVANIZADO REVESTIDO COM POLÍMERO, MALHA HEXAGONAL 8X10CM E MOLDURA EM TUBOS DE AÇO, INCLUSO FERRAGENS E CADEADO, 1 DEMÃO DE FUNDO E 2 DEMÃOS DE ESMALTE SINTÉTICO | F25: M2 | I25: 312.4425 | J25: 478.53 | K25: =ROUND(I25+J25,20) -> 790.9725 | L25: 0.2519 | M25: =IFERROR(IF(L25="-",(ROUND(K25,2)),(ROUND(K25*(1+L25),2))),"-") -> 990.22 | O25: =IF(AND($H25=0,$J25=0),$Q25,IF(I25=0,0,IF($L25<>"-",IFERROR(TRUNC(TRUNC((I25*(1+$L25)),2)*$G25,2),0),IFERROR(TRUNC(I25*$G25,2),0)))) -> 0 | P25: =IF(J25=0,0,Q25-O25-N25) -> 0 | Q25: =IFERROR(ROUND(ROUND(M25,2)*ROUND(G25,2),2),0) -> 0 | T25: =B25 -> 2.7 | U25: =IF(J25=0,Q25-O25) -> FALSE | X25: =IFERROR(IF(OR($D25="ANP",$D25="DAER",$D25="CONSULTORIA DNIT",$D25="PREGÃO ELETRÔNICO",$D25="DMLU",$D25="DMAE",$D25="CEEE",$D25="EPTC",$D25="ORSE",$D25="SEINFRA",$D25="CREA",$D25="CAU",$D25="CEHOP",$D25="SIURB",$D25="DER-PR",$D25="SUDECAP",$D25=#REF!,$D25=#REF!),VLOOKUP($C25,#REF!,7,FALSE),IF($D25="INDEXADO",VLOOKUP($C25,#REF!,17,FALSE),IF($D25="CCU",VLOOKUP($C25,#REF!,6,FALSE),IF($D25="MERCADO",VLOOKUP(PE_243_2026!$C25,#REF!,8,FALSE),IF($D25="PLEO",VLOOKUP($C25,#REF!,4,FALSE),IF($D25="SICRO",VLOOKUP($C25,#REF!,6,FALSE),IF($D25="SINAPI",IFERROR((VLOOKUP($C25,#REF!,5,FALSE)),"-"),"-"))))))),0) -> 0 | Y25: =IF(OR($D25="ANP",$D25="DAER",$D25="CONSULTORIA DNIT",$D25="PREGÃO ELETRÔNICO",$D25="DMLU",$D25="DMAE",$D25="CEEE",$D25="EPTC",$D25="ORSE",$D25="SEINFRA",$D25="CREA",$D25="CAU",$D25="CEHOP",$D25="SIURB",$D25="DER-PR",$D25="SUDECAP",$D25=#REF!,$D25=#REF!),VLOOKUP($C25,#REF!,8,FALSE),IF($D25="INDEXADO",VLOOKUP($C25,#REF!,18,FALSE),IF($D25="CCU",VLOOKUP($C25,#REF!,7,FALSE),IF($D25="MERCADO",VLOOKUP(PE_243_2026!$C25,#REF!,9,FALSE),IF($D25="PLEO",VLOOKUP($C25,#REF!,4,FALSE),IF($D25="SICRO",VLOOKUP($C25,#REF!,7,FALSE),IF($D25="SINAPI",IFERROR((VLOOKUP($C25,#REF!,6,FALSE)),(VLOOKUP($C25,#REF!,27,FALSE))),"-"))))))) -> #REF! | Z25: 990.22 | AA25: =M25-Z25 -> 0 | AB25: =M25*G25 -> 0 | AC25: =AA25*G25 -> 0
B26: 2.8 | C26: CCU-03 | D26: CCU | E26: PORTA EM AÇO DE GIRO TIPO VENEZIANA SEM GUARNIÇÃO - INCLUSO CADEADO PADRÃO E FERROLHO | F26: M2 | I26: 0 | J26: 292.1925 | K26: =ROUND(I26+J26,20) -> 292.1925 | L26: 0.2519 | M26: =IFERROR(IF(L26="-",(ROUND(K26,2)),(ROUND(K26*(1+L26),2))),"-") -> 365.8 | O26: =IF(AND($H26=0,$J26=0),$Q26,IF(I26=0,0,IF($L26<>"-",IFERROR(TRUNC(TRUNC((I26*(1+$L26)),2)*$G26,2),0),IFERROR(TRUNC(I26*$G26,2),0)))) -> 0 | P26: =IF(J26=0,0,Q26-O26-N26) -> 0 | Q26: =IFERROR(ROUND(ROUND(M26,2)*ROUND(G26,2),2),0) -> 0 | T26: =B26 -> 2.8 | U26: =IF(J26=0,Q26-O26) -> FALSE | X26: =IFERROR(IF(OR($D26="ANP",$D26="DAER",$D26="CONSULTORIA DNIT",$D26="PREGÃO ELETRÔNICO",$D26="DMLU",$D26="DMAE",$D26="CEEE",$D26="EPTC",$D26="ORSE",$D26="SEINFRA",$D26="CREA",$D26="CAU",$D26="CEHOP",$D26="SIURB",$D26="DER-PR",$D26="SUDECAP",$D26=#REF!,$D26=#REF!),VLOOKUP($C26,#REF!,7,FALSE),IF($D26="INDEXADO",VLOOKUP($C26,#REF!,17,FALSE),IF($D26="CCU",VLOOKUP($C26,#REF!,6,FALSE),IF($D26="MERCADO",VLOOKUP(PE_243_2026!$C26,#REF!,8,FALSE),IF($D26="PLEO",VLOOKUP($C26,#REF!,4,FALSE),IF($D26="SICRO",VLOOKUP($C26,#REF!,6,FALSE),IF($D26="SINAPI",IFERROR((VLOOKUP($C26,#REF!,5,FALSE)),"-"),"-"))))))),0) -> 0 | Y26: =IF(OR($D26="ANP",$D26="DAER",$D26="CONSULTORIA DNIT",$D26="PREGÃO ELETRÔNICO",$D26="DMLU",$D26="DMAE",$D26="CEEE",$D26="EPTC",$D26="ORSE",$D26="SEINFRA",$D26="CREA",$D26="CAU",$D26="CEHOP",$D26="SIURB",$D26="DER-PR",$D26="SUDECAP",$D26=#REF!,$D26=#REF!),VLOOKUP($C26,#REF!,8,FALSE),IF($D26="INDEXADO",VLOOKUP($C26,#REF!,18,FALSE),IF($D26="CCU",VLOOKUP($C26,#REF!,7,FALSE),IF($D26="MERCADO",VLOOKUP(PE_243_2026!$C26,#REF!,9,FALSE),IF($D26="PLEO",VLOOKUP($C26,#REF!,4,FALSE),IF($D26="SICRO",VLOOKUP($C26,#REF!,7,FALSE),IF($D26="SINAPI",IFERROR((VLOOKUP($C26,#REF!,6,FALSE)),(VLOOKUP($C26,#REF!,27,FALSE))),"-"))))))) -> #REF! | Z26: 365.79 | AA26: =M26-Z26 -> 0.01 | AB26: =M26*G26 -> 0 | AC26: =AA26*G26 -> 0
B27: 2.9 | C27: CCU-05 | D27: CCU | E27: JANELA EM AÇO FIXA TIPO VENEZIANA SEM GUARNIÇÃO | F27: M2 | I27: 0 | J27: 270.165 | K27: =ROUND(I27+J27,20) -> 270.165 | L27: 0.2519 | M27: =IFERROR(IF(L27="-",(ROUND(K27,2)),(ROUND(K27*(1+L27),2))),"-") -> 338.22 | O27: =IF(AND($H27=0,$J27=0),$Q27,IF(I27=0,0,IF($L27<>"-",IFERROR(TRUNC(TRUNC((I27*(1+$L27)),2)*$G27,2),0),IFERROR(TRUNC(I27*$G27,2),0)))) -> 0 | P27: =IF(J27=0,0,Q27-O27-N27) -> 0 | Q27: =IFERROR(ROUND(ROUND(M27,2)*ROUND(G27,2),2),0) -> 0 | T27: =B27 -> 2.9 | U27: =IF(J27=0,Q27-O27) -> FALSE | X27: =IFERROR(IF(OR($D27="ANP",$D27="DAER",$D27="CONSULTORIA DNIT",$D27="PREGÃO ELETRÔNICO",$D27="DMLU",$D27="DMAE",$D27="CEEE",$D27="EPTC",$D27="ORSE",$D27="SEINFRA",$D27="CREA",$D27="CAU",$D27="CEHOP",$D27="SIURB",$D27="DER-PR",$D27="SUDECAP",$D27=#REF!,$D27=#REF!),VLOOKUP($C27,#REF!,7,FALSE),IF($D27="INDEXADO",VLOOKUP($C27,#REF!,17,FALSE),IF($D27="CCU",VLOOKUP($C27,#REF!,6,FALSE),IF($D27="MERCADO",VLOOKUP(PE_243_2026!$C27,#REF!,8,FALSE),IF($D27="PLEO",VLOOKUP($C27,#REF!,4,FALSE),IF($D27="SICRO",VLOOKUP($C27,#REF!,6,FALSE),IF($D27="SINAPI",IFERROR((VLOOKUP($C27,#REF!,5,FALSE)),"-"),"-"))))))),0) -> 0 | Y27: =IF(OR($D27="ANP",$D27="DAER",$D27="CONSULTORIA DNIT",$D27="PREGÃO ELETRÔNICO",$D27="DMLU",$D27="DMAE",$D27="CEEE",$D27="EPTC",$D27="ORSE",$D27="SEINFRA",$D27="CREA",$D27="CAU",$D27="CEHOP",$D27="SIURB",$D27="DER-PR",$D27="SUDECAP",$D27=#REF!,$D27=#REF!),VLOOKUP($C27,#REF!,8,FALSE),IF($D27="INDEXADO",VLOOKUP($C27,#REF!,18,FALSE),IF($D27="CCU",VLOOKUP($C27,#REF!,7,FALSE),IF($D27="MERCADO",VLOOKUP(PE_243_2026!$C27,#REF!,9,FALSE),IF($D27="PLEO",VLOOKUP($C27,#REF!,4,FALSE),IF($D27="SICRO",VLOOKUP($C27,#REF!,7,FALSE),IF($D27="SINAPI",IFERROR((VLOOKUP($C27,#REF!,6,FALSE)),(VLOOKUP($C27,#REF!,27,FALSE))),"-"))))))) -> #REF! | Z27: 338.21 | AA27: =M27-Z27 -> 0.01 | AB27: =M27*G27 -> 0 | AC27: =AA27*G27 -> 0
B28: 2.10 | C28: 98546 | D28: SINAPI | E28: IMPERMEABILIZAÇÃO DE SUPERFÍCIE COM MANTA ASFÁLTICA, UMA CAMADA, INCLUSIVE APLICAÇÃO DE PRIMER ASFÁLTICO, E=4MM. AF_09/2023 | F28: M2 | I28: 26.0925 | J28: 71.805 | K28: =ROUND(I28+J28,20) -> 97.8975 | L28: 0.2519 | M28: =IFERROR(IF(L28="-",(ROUND(K28,2)),(ROUND(K28*(1+L28),2))),"-") -> 122.56 | O28: =IF(AND($H28=0,$J28=0),$Q28,IF(I28=0,0,IF($L28<>"-",IFERROR(TRUNC(TRUNC((I28*(1+$L28)),2)*$G28,2),0),IFERROR(TRUNC(I28*$G28,2),0)))) -> 0 | P28: =IF(J28=0,0,Q28-O28-N28) -> 0 | Q28: =IFERROR(ROUND(ROUND(M28,2)*ROUND(G28,2),2),0) -> 0 | T28: =B28 -> 2.10 | U28: =IF(J28=0,Q28-O28) -> FALSE | X28: =IFERROR(IF(OR($D28="ANP",$D28="DAER",$D28="CONSULTORIA DNIT",$D28="PREGÃO ELETRÔNICO",$D28="DMLU",$D28="DMAE",$D28="CEEE",$D28="EPTC",$D28="ORSE",$D28="SEINFRA",$D28="CREA",$D28="CAU",$D28="CEHOP",$D28="SIURB",$D28="DER-PR",$D28="SUDECAP",$D28=#REF!,$D28=#REF!),VLOOKUP($C28,#REF!,7,FALSE),IF($D28="INDEXADO",VLOOKUP($C28,#REF!,17,FALSE),IF($D28="CCU",VLOOKUP($C28,#REF!,6,FALSE),IF($D28="MERCADO",VLOOKUP(PE_243_2026!$C28,#REF!,8,FALSE),IF($D28="PLEO",VLOOKUP($C28,#REF!,4,FALSE),IF($D28="SICRO",VLOOKUP($C28,#REF!,6,FALSE),IF($D28="SINAPI",IFERROR((VLOOKUP($C28,#REF!,5,FALSE)),"-"),"-"))))))),0) -> 0 | Y28: =IF(OR($D28="ANP",$D28="DAER",$D28="CONSULTORIA DNIT",$D28="PREGÃO ELETRÔNICO",$D28="DMLU",$D28="DMAE",$D28="CEEE",$D28="EPTC",$D28="ORSE",$D28="SEINFRA",$D28="CREA",$D28="CAU",$D28="CEHOP",$D28="SIURB",$D28="DER-PR",$D28="SUDECAP",$D28=#REF!,$D28=#REF!),VLOOKUP($C28,#REF!,8,FALSE),IF($D28="INDEXADO",VLOOKUP($C28,#REF!,18,FALSE),IF($D28="CCU",VLOOKUP($C28,#REF!,7,FALSE),IF($D28="MERCADO",VLOOKUP(PE_243_2026!$C28,#REF!,9,FALSE),IF($D28="PLEO",VLOOKUP($C28,#REF!,4,FALSE),IF($D28="SICRO",VLOOKUP($C28,#REF!,7,FALSE),IF($D28="SINAPI",IFERROR((VLOOKUP($C28,#REF!,6,FALSE)),(VLOOKUP($C28,#REF!,27,FALSE))),"-"))))))) -> #REF! | Z28: 122.55 | AA28: =M28-Z28 -> 0.01 | AB28: =M28*G28 -> 0 | AC28: =AA28*G28 -> 0
B29: 2.11 | C29: 88485 | D29: SINAPI | E29: FUNDO SELADOR ACRÍLICO, APLICAÇÃO MANUAL EM PAREDE, UMA DEMÃO. AF_04/2023 | F29: M2 | I29: 1.9875 | J29: 1.035 | K29: =ROUND(I29+J29,20) -> 3.0225 | L29: 0.2519 | M29: =IFERROR(IF(L29="-",(ROUND(K29,2)),(ROUND(K29*(1+L29),2))),"-") -> 3.78 | O29: =IF(AND($H29=0,$J29=0),$Q29,IF(I29=0,0,IF($L29<>"-",IFERROR(TRUNC(TRUNC((I29*(1+$L29)),2)*$G29,2),0),IFERROR(TRUNC(I29*$G29,2),0)))) -> 0 | P29: =IF(J29=0,0,Q29-O29-N29) -> 0 | Q29: =IFERROR(ROUND(ROUND(M29,2)*ROUND(G29,2),2),0) -> 0 | T29: =B29 -> 2.11 | U29: =IF(J29=0,Q29-O29) -> FALSE | X29: =IFERROR(IF(OR($D29="ANP",$D29="DAER",$D29="CONSULTORIA DNIT",$D29="PREGÃO ELETRÔNICO",$D29="DMLU",$D29="DMAE",$D29="CEEE",$D29="EPTC",$D29="ORSE",$D29="SEINFRA",$D29="CREA",$D29="CAU",$D29="CEHOP",$D29="SIURB",$D29="DER-PR",$D29="SUDECAP",$D29=#REF!,$D29=#REF!),VLOOKUP($C29,#REF!,7,FALSE),IF($D29="INDEXADO",VLOOKUP($C29,#REF!,17,FALSE),IF($D29="CCU",VLOOKUP($C29,#REF!,6,FALSE),IF($D29="MERCADO",VLOOKUP(PE_243_2026!$C29,#REF!,8,FALSE),IF($D29="PLEO",VLOOKUP($C29,#REF!,4,FALSE),IF($D29="SICRO",VLOOKUP($C29,#REF!,6,FALSE),IF($D29="SINAPI",IFERROR((VLOOKUP($C29,#REF!,5,FALSE)),"-"),"-"))))))),0) -> 0 | Y29: =IF(OR($D29="ANP",$D29="DAER",$D29="CONSULTORIA DNIT",$D29="PREGÃO ELETRÔNICO",$D29="DMLU",$D29="DMAE",$D29="CEEE",$D29="EPTC",$D29="ORSE",$D29="SEINFRA",$D29="CREA",$D29="CAU",$D29="CEHOP",$D29="SIURB",$D29="DER-PR",$D29="SUDECAP",$D29=#REF!,$D29=#REF!),VLOOKUP($C29,#REF!,8,FALSE),IF($D29="INDEXADO",VLOOKUP($C29,#REF!,18,FALSE),IF($D29="CCU",VLOOKUP($C29,#REF!,7,FALSE),IF($D29="MERCADO",VLOOKUP(PE_243_2026!$C29,#REF!,9,FALSE),IF($D29="PLEO",VLOOKUP($C29,#REF!,4,FALSE),IF($D29="SICRO",VLOOKUP($C29,#REF!,7,FALSE),IF($D29="SINAPI",IFERROR((VLOOKUP($C29,#REF!,6,FALSE)),(VLOOKUP($C29,#REF!,27,FALSE))),"-"))))))) -> #REF! | Z29: 3.78 | AA29: =M29-Z29 -> 0 | AB29: =M29*G29 -> 0 | AC29: =AA29*G29 -> 0
B30: 2.12 | C30: 88489 | D30: SINAPI | E30: PINTURA LÁTEX ACRÍLICA PREMIUM, APLICAÇÃO MANUAL EM PAREDES, DUAS DEMÃOS. AF_04/2023 | F30: M2 | I30: 4.875 | J30: 5.6925 | K30: =ROUND(I30+J30,20) -> 10.5675 | L30: 0.2519 | M30: =IFERROR(IF(L30="-",(ROUND(K30,2)),(ROUND(K30*(1+L30),2))),"-") -> 13.23 | O30: =IF(AND($H30=0,$J30=0),$Q30,IF(I30=0,0,IF($L30<>"-",IFERROR(TRUNC(TRUNC((I30*(1+$L30)),2)*$G30,2),0),IFERROR(TRUNC(I30*$G30,2),0)))) -> 0 | P30: =IF(J30=0,0,Q30-O30-N30) -> 0 | Q30: =IFERROR(ROUND(ROUND(M30,2)*ROUND(G30,2),2),0) -> 0 | T30: =B30 -> 2.12 | U30: =IF(J30=0,Q30-O30) -> FALSE | X30: =IFERROR(IF(OR($D30="ANP",$D30="DAER",$D30="CONSULTORIA DNIT",$D30="PREGÃO ELETRÔNICO",$D30="DMLU",$D30="DMAE",$D30="CEEE",$D30="EPTC",$D30="ORSE",$D30="SEINFRA",$D30="CREA",$D30="CAU",$D30="CEHOP",$D30="SIURB",$D30="DER-PR",$D30="SUDECAP",$D30=#REF!,$D30=#REF!),VLOOKUP($C30,#REF!,7,FALSE),IF($D30="INDEXADO",VLOOKUP($C30,#REF!,17,FALSE),IF($D30="CCU",VLOOKUP($C30,#REF!,6,FALSE),IF($D30="MERCADO",VLOOKUP(PE_243_2026!$C30,#REF!,8,FALSE),IF($D30="PLEO",VLOOKUP($C30,#REF!,4,FALSE),IF($D30="SICRO",VLOOKUP($C30,#REF!,6,FALSE),IF($D30="SINAPI",IFERROR((VLOOKUP($C30,#REF!,5,FALSE)),"-"),"-"))))))),0) -> 0 | Y30: =IF(OR($D30="ANP",$D30="DAER",$D30="CONSULTORIA DNIT",$D30="PREGÃO ELETRÔNICO",$D30="DMLU",$D30="DMAE",$D30="CEEE",$D30="EPTC",$D30="ORSE",$D30="SEINFRA",$D30="CREA",$D30="CAU",$D30="CEHOP",$D30="SIURB",$D30="DER-PR",$D30="SUDECAP",$D30=#REF!,$D30=#REF!),VLOOKUP($C30,#REF!,8,FALSE),IF($D30="INDEXADO",VLOOKUP($C30,#REF!,18,FALSE),IF($D30="CCU",VLOOKUP($C30,#REF!,7,FALSE),IF($D30="MERCADO",VLOOKUP(PE_243_2026!$C30,#REF!,9,FALSE),IF($D30="PLEO",VLOOKUP($C30,#REF!,4,FALSE),IF($D30="SICRO",VLOOKUP($C30,#REF!,7,FALSE),IF($D30="SINAPI",IFERROR((VLOOKUP($C30,#REF!,6,FALSE)),(VLOOKUP($C30,#REF!,27,FALSE))),"-"))))))) -> #REF! | Z30: 13.22 | AA30: =M30-Z30 -> 0.01 | AB30: =M30*G30 -> 0 | AC30: =AA30*G30 -> 0
B31: 2.13 | C31: 88488 | D31: SINAPI | E31: PINTURA LÁTEX ACRÍLICA PREMIUM, APLICAÇÃO MANUAL EM TETO, DUAS DEMÃOS. AF_04/2023 | F31: M2 | I31: 6.78 | J31: 5.6925 | K31: =ROUND(I31+J31,20) -> 12.4725 | L31: 0.2519 | M31: =IFERROR(IF(L31="-",(ROUND(K31,2)),(ROUND(K31*(1+L31),2))),"-") -> 15.61 | O31: =IF(AND($H31=0,$J31=0),$Q31,IF(I31=0,0,IF($L31<>"-",IFERROR(TRUNC(TRUNC((I31*(1+$L31)),2)*$G31,2),0),IFERROR(TRUNC(I31*$G31,2),0)))) -> 0 | P31: =IF(J31=0,0,Q31-O31-N31) -> 0 | Q31: =IFERROR(ROUND(ROUND(M31,2)*ROUND(G31,2),2),0) -> 0 | T31: =B31 -> 2.13 | U31: =IF(J31=0,Q31-O31) -> FALSE | X31: =IFERROR(IF(OR($D31="ANP",$D31="DAER",$D31="CONSULTORIA DNIT",$D31="PREGÃO ELETRÔNICO",$D31="DMLU",$D31="DMAE",$D31="CEEE",$D31="EPTC",$D31="ORSE",$D31="SEINFRA",$D31="CREA",$D31="CAU",$D31="CEHOP",$D31="SIURB",$D31="DER-PR",$D31="SUDECAP",$D31=#REF!,$D31=#REF!),VLOOKUP($C31,#REF!,7,FALSE),IF($D31="INDEXADO",VLOOKUP($C31,#REF!,17,FALSE),IF($D31="CCU",VLOOKUP($C31,#REF!,6,FALSE),IF($D31="MERCADO",VLOOKUP(PE_243_2026!$C31,#REF!,8,FALSE),IF($D31="PLEO",VLOOKUP($C31,#REF!,4,FALSE),IF($D31="SICRO",VLOOKUP($C31,#REF!,6,FALSE),IF($D31="SINAPI",IFERROR((VLOOKUP($C31,#REF!,5,FALSE)),"-"),"-"))))))),0) -> 0 | Y31: =IF(OR($D31="ANP",$D31="DAER",$D31="CONSULTORIA DNIT",$D31="PREGÃO ELETRÔNICO",$D31="DMLU",$D31="DMAE",$D31="CEEE",$D31="EPTC",$D31="ORSE",$D31="SEINFRA",$D31="CREA",$D31="CAU",$D31="CEHOP",$D31="SIURB",$D31="DER-PR",$D31="SUDECAP",$D31=#REF!,$D31=#REF!),VLOOKUP($C31,#REF!,8,FALSE),IF($D31="INDEXADO",VLOOKUP($C31,#REF!,18,FALSE),IF($D31="CCU",VLOOKUP($C31,#REF!,7,FALSE),IF($D31="MERCADO",VLOOKUP(PE_243_2026!$C31,#REF!,9,FALSE),IF($D31="PLEO",VLOOKUP($C31,#REF!,4,FALSE),IF($D31="SICRO",VLOOKUP($C31,#REF!,7,FALSE),IF($D31="SINAPI",IFERROR((VLOOKUP($C31,#REF!,6,FALSE)),(VLOOKUP($C31,#REF!,27,FALSE))),"-"))))))) -> #REF! | Z31: 15.61 | AA31: =M31-Z31 -> 0 | AB31: =M31*G31 -> 0 | AC31: =AA31*G31 -> 0
B32: 2.14 | C32: 100717 | D32: SINAPI | E32: LIXAMENTO MANUAL EM SUPERFÍCIES METÁLICAS EM OBRA. AF_01/2020 | F32: M2 | I32: 7.0725 | J32: 0.9975 | K32: =ROUND(I32+J32,20) -> 8.07 | L32: 0.2519 | M32: =IFERROR(IF(L32="-",(ROUND(K32,2)),(ROUND(K32*(1+L32),2))),"-") -> 10.1 | O32: =IF(AND($H32=0,$J32=0),$Q32,IF(I32=0,0,IF($L32<>"-",IFERROR(TRUNC(TRUNC((I32*(1+$L32)),2)*$G32,2),0),IFERROR(TRUNC(I32*$G32,2),0)))) -> 0 | P32: =IF(J32=0,0,Q32-O32-N32) -> 0 | Q32: =IFERROR(ROUND(ROUND(M32,2)*ROUND(G32,2),2),0) -> 0 | T32: =B32 -> 2.14 | U32: =IF(J32=0,Q32-O32) -> FALSE | X32: =IFERROR(IF(OR($D32="ANP",$D32="DAER",$D32="CONSULTORIA DNIT",$D32="PREGÃO ELETRÔNICO",$D32="DMLU",$D32="DMAE",$D32="CEEE",$D32="EPTC",$D32="ORSE",$D32="SEINFRA",$D32="CREA",$D32="CAU",$D32="CEHOP",$D32="SIURB",$D32="DER-PR",$D32="SUDECAP",$D32=#REF!,$D32=#REF!),VLOOKUP($C32,#REF!,7,FALSE),IF($D32="INDEXADO",VLOOKUP($C32,#REF!,17,FALSE),IF($D32="CCU",VLOOKUP($C32,#REF!,6,FALSE),IF($D32="MERCADO",VLOOKUP(PE_243_2026!$C32,#REF!,8,FALSE),IF($D32="PLEO",VLOOKUP($C32,#REF!,4,FALSE),IF($D32="SICRO",VLOOKUP($C32,#REF!,6,FALSE),IF($D32="SINAPI",IFERROR((VLOOKUP($C32,#REF!,5,FALSE)),"-"),"-"))))))),0) -> 0 | Y32: =IF(OR($D32="ANP",$D32="DAER",$D32="CONSULTORIA DNIT",$D32="PREGÃO ELETRÔNICO",$D32="DMLU",$D32="DMAE",$D32="CEEE",$D32="EPTC",$D32="ORSE",$D32="SEINFRA",$D32="CREA",$D32="CAU",$D32="CEHOP",$D32="SIURB",$D32="DER-PR",$D32="SUDECAP",$D32=#REF!,$D32=#REF!),VLOOKUP($C32,#REF!,8,FALSE),IF($D32="INDEXADO",VLOOKUP($C32,#REF!,18,FALSE),IF($D32="CCU",VLOOKUP($C32,#REF!,7,FALSE),IF($D32="MERCADO",VLOOKUP(PE_243_2026!$C32,#REF!,9,FALSE),IF($D32="PLEO",VLOOKUP($C32,#REF!,4,FALSE),IF($D32="SICRO",VLOOKUP($C32,#REF!,7,FALSE),IF($D32="SINAPI",IFERROR((VLOOKUP($C32,#REF!,6,FALSE)),(VLOOKUP($C32,#REF!,27,FALSE))),"-"))))))) -> #REF! | Z32: 10.09 | AA32: =M32-Z32 -> 0.01 | AB32: =M32*G32 -> 0 | AC32: =AA32*G32 -> 0
B33: 2.15 | C33: 100726 | D33: SINAPI | E33: PINTURA COM TINTA ALQUÍDICA DE FUNDO E ACABAMENTO (ESMALTE SINTÉTICO GRAFITE) APLICADA A ROLO OU PINCEL SOBRE SUPERFÍCIES METÁLICAS (EXCETO PERFIL) EXECUTADO EM OBRA (POR DEMÃO). AF_01/2020 | F33: M2 | I33: 16.0575 | J33: 6.4575 | K33: =ROUND(I33+J33,20) -> 22.515 | L33: 0.2519 | M33: =IFERROR(IF(L33="-",(ROUND(K33,2)),(ROUND(K33*(1+L33),2))),"-") -> 28.19 | O33: =IF(AND($H33=0,$J33=0),$Q33,IF(I33=0,0,IF($L33<>"-",IFERROR(TRUNC(TRUNC((I33*(1+$L33)),2)*$G33,2),0),IFERROR(TRUNC(I33*$G33,2),0)))) -> 0 | P33: =IF(J33=0,0,Q33-O33-N33) -> 0 | Q33: =IFERROR(ROUND(ROUND(M33,2)*ROUND(G33,2),2),0) -> 0 | T33: =B33 -> 2.15 | U33: =IF(J33=0,Q33-O33) -> FALSE | X33: =IFERROR(IF(OR($D33="ANP",$D33="DAER",$D33="CONSULTORIA DNIT",$D33="PREGÃO ELETRÔNICO",$D33="DMLU",$D33="DMAE",$D33="CEEE",$D33="EPTC",$D33="ORSE",$D33="SEINFRA",$D33="CREA",$D33="CAU",$D33="CEHOP",$D33="SIURB",$D33="DER-PR",$D33="SUDECAP",$D33=#REF!,$D33=#REF!),VLOOKUP($C33,#REF!,7,FALSE),IF($D33="INDEXADO",VLOOKUP($C33,#REF!,17,FALSE),IF($D33="CCU",VLOOKUP($C33,#REF!,6,FALSE),IF($D33="MERCADO",VLOOKUP(PE_243_2026!$C33,#REF!,8,FALSE),IF($D33="PLEO",VLOOKUP($C33,#REF!,4,FALSE),IF($D33="SICRO",VLOOKUP($C33,#REF!,6,FALSE),IF($D33="SINAPI",IFERROR((VLOOKUP($C33,#REF!,5,FALSE)),"-"),"-"))))))),0) -> 0 | Y33: =IF(OR($D33="ANP",$D33="DAER",$D33="CONSULTORIA DNIT",$D33="PREGÃO ELETRÔNICO",$D33="DMLU",$D33="DMAE",$D33="CEEE",$D33="EPTC",$D33="ORSE",$D33="SEINFRA",$D33="CREA",$D33="CAU",$D33="CEHOP",$D33="SIURB",$D33="DER-PR",$D33="SUDECAP",$D33=#REF!,$D33=#REF!),VLOOKUP($C33,#REF!,8,FALSE),IF($D33="INDEXADO",VLOOKUP($C33,#REF!,18,FALSE),IF($D33="CCU",VLOOKUP($C33,#REF!,7,FALSE),IF($D33="MERCADO",VLOOKUP(PE_243_2026!$C33,#REF!,9,FALSE),IF($D33="PLEO",VLOOKUP($C33,#REF!,4,FALSE),IF($D33="SICRO",VLOOKUP($C33,#REF!,7,FALSE),IF($D33="SINAPI",IFERROR((VLOOKUP($C33,#REF!,6,FALSE)),(VLOOKUP($C33,#REF!,27,FALSE))),"-"))))))) -> #REF! | Z33: 28.18 | AA33: =M33-Z33 -> 0.01 | AB33: =M33*G33 -> 0 | AC33: =AA33*G33 -> 0
B34: 2.16 | C34: CCU-29 | D34: CCU | E34: FORNECIMENTO E INSTALAÇÃO DE PLACA ORIENTATIVA EM PVC 2MM | F34: M2 | I34: 1.995 | J34: 314.625 | K34: =ROUND(I34+J34,20) -> 316.62 | L34: 0.2519 | M34: =IFERROR(IF(L34="-",(ROUND(K34,2)),(ROUND(K34*(1+L34),2))),"-") -> 396.38 | O34: =IF(AND($H34=0,$J34=0),$Q34,IF(I34=0,0,IF($L34<>"-",IFERROR(TRUNC(TRUNC((I34*(1+$L34)),2)*$G34,2),0),IFERROR(TRUNC(I34*$G34,2),0)))) -> 0 | P34: =IF(J34=0,0,Q34-O34-N34) -> 0 | Q34: =IFERROR(ROUND(ROUND(M34,2)*ROUND(G34,2),2),0) -> 0 | T34: =B34 -> 2.16 | U34: =IF(J34=0,Q34-O34) -> FALSE | X34: =IFERROR(IF(OR($D34="ANP",$D34="DAER",$D34="CONSULTORIA DNIT",$D34="PREGÃO ELETRÔNICO",$D34="DMLU",$D34="DMAE",$D34="CEEE",$D34="EPTC",$D34="ORSE",$D34="SEINFRA",$D34="CREA",$D34="CAU",$D34="CEHOP",$D34="SIURB",$D34="DER-PR",$D34="SUDECAP",$D34=#REF!,$D34=#REF!),VLOOKUP($C34,#REF!,7,FALSE),IF($D34="INDEXADO",VLOOKUP($C34,#REF!,17,FALSE),IF($D34="CCU",VLOOKUP($C34,#REF!,6,FALSE),IF($D34="MERCADO",VLOOKUP(PE_243_2026!$C34,#REF!,8,FALSE),IF($D34="PLEO",VLOOKUP($C34,#REF!,4,FALSE),IF($D34="SICRO",VLOOKUP($C34,#REF!,6,FALSE),IF($D34="SINAPI",IFERROR((VLOOKUP($C34,#REF!,5,FALSE)),"-"),"-"))))))),0) -> 0 | Y34: =IF(OR($D34="ANP",$D34="DAER",$D34="CONSULTORIA DNIT",$D34="PREGÃO ELETRÔNICO",$D34="DMLU",$D34="DMAE",$D34="CEEE",$D34="EPTC",$D34="ORSE",$D34="SEINFRA",$D34="CREA",$D34="CAU",$D34="CEHOP",$D34="SIURB",$D34="DER-PR",$D34="SUDECAP",$D34=#REF!,$D34=#REF!),VLOOKUP($C34,#REF!,8,FALSE),IF($D34="INDEXADO",VLOOKUP($C34,#REF!,18,FALSE),IF($D34="CCU",VLOOKUP($C34,#REF!,7,FALSE),IF($D34="MERCADO",VLOOKUP(PE_243_2026!$C34,#REF!,9,FALSE),IF($D34="PLEO",VLOOKUP($C34,#REF!,4,FALSE),IF($D34="SICRO",VLOOKUP($C34,#REF!,7,FALSE),IF($D34="SINAPI",IFERROR((VLOOKUP($C34,#REF!,6,FALSE)),(VLOOKUP($C34,#REF!,27,FALSE))),"-"))))))) -> #REF! | Z34: 396.37 | AA34: =M34-Z34 -> 0.01 | AB34: =M34*G34 -> 0 | AC34: =AA34*G34 -> 0
M35: Subtotal Manutenção das instalações | O35: =SUM(O19:O34) -> 0 | P35: =SUM(P19:P34) -> 0 | Q35: =SUM(Q19:Q34) -> 0 | S35: 1 | U35: =IF(J35=0,Q35-O35) -> 0 | V35: =SUM(O35:P35) -> 0 | W35: =IF(V35<>Q35,"erro","ok") -> ok
T36: =B36 -> 0 | U36: =IF(J36=0,Q36-O36) -> 0
B37: 3 | E37: Manutenção da rede de alimentação | Q37: =Q110 -> 0 | T37: =B37 -> 3 | U37: =IF(J37=0,Q37-O37) -> 0
B38: 3.1 | C38: CCU-26 | D38: CCU | E38: MANUTENÇÃO CORRETIVA EM SUBESTAÇÃO E/OU REDE AÉREA, CONFORME ESPECIFICAÇÕES | F38: UN | I38: 582.96 | J38: 1559.115 | K38: =I38+J38 -> 2142.075 | L38: 0.2519 | M38: =IFERROR(IF(L38="-",(ROUND(K38,2)),(ROUND(K38*(1+L38),2))),"-") -> 2681.66 | O38: =IF(AND($H38=0,$J38=0),$Q38,IF(I38=0,0,IF($L38<>"-",IFERROR(TRUNC(TRUNC((I38*(1+$L38)),2)*$G38,2),0),IFERROR(TRUNC(I38*$G38,2),0)))) -> 0 | P38: =IF(J38=0,0,Q38-O38-N38) -> 0 | Q38: =IFERROR(ROUND(ROUND(M38,2)*ROUND(G38,2),2),0) -> 0 | T38: =B38 -> 3.1 | U38: =IF(J38=0,Q38-O38) -> FALSE | X38: =IFERROR(IF(OR($D38="ANP",$D38="DAER",$D38="CONSULTORIA DNIT",$D38="PREGÃO ELETRÔNICO",$D38="DMLU",$D38="DMAE",$D38="CEEE",$D38="EPTC",$D38="ORSE",$D38="SEINFRA",$D38="CREA",$D38="CAU",$D38="CEHOP",$D38="SIURB",$D38="DER-PR",$D38="SUDECAP",$D38=#REF!,$D38=#REF!),VLOOKUP($C38,#REF!,7,FALSE),IF($D38="INDEXADO",VLOOKUP($C38,#REF!,17,FALSE),IF($D38="CCU",VLOOKUP($C38,#REF!,6,FALSE),IF($D38="MERCADO",VLOOKUP(PE_243_2026!$C38,#REF!,8,FALSE),IF($D38="PLEO",VLOOKUP($C38,#REF!,4,FALSE),IF($D38="SICRO",VLOOKUP($C38,#REF!,6,FALSE),IF($D38="SINAPI",IFERROR((VLOOKUP($C38,#REF!,5,FALSE)),"-"),"-"))))))),0) -> 0 | Y38: =IF(OR($D38="ANP",$D38="DAER",$D38="CONSULTORIA DNIT",$D38="PREGÃO ELETRÔNICO",$D38="DMLU",$D38="DMAE",$D38="CEEE",$D38="EPTC",$D38="ORSE",$D38="SEINFRA",$D38="CREA",$D38="CAU",$D38="CEHOP",$D38="SIURB",$D38="DER-PR",$D38="SUDECAP",$D38=#REF!,$D38=#REF!),VLOOKUP($C38,#REF!,8,FALSE),IF($D38="INDEXADO",VLOOKUP($C38,#REF!,18,FALSE),IF($D38="CCU",VLOOKUP($C38,#REF!,7,FALSE),IF($D38="MERCADO",VLOOKUP(PE_243_2026!$C38,#REF!,9,FALSE),IF($D38="PLEO",VLOOKUP($C38,#REF!,4,FALSE),IF($D38="SICRO",VLOOKUP($C38,#REF!,7,FALSE),IF($D38="SINAPI",IFERROR((VLOOKUP($C38,#REF!,6,FALSE)),(VLOOKUP($C38,#REF!,27,FALSE))),"-"))))))) -> #REF! | Z38: 2681.65 | AA38: =M38-Z38 -> 0.01 | AB38: =M38*G38 -> 0 | AC38: =AA38*G38 -> 0
B39: 3.2 | C39: 104792 | D39: SINAPI | E39: REMOÇÃO DE CABOS ELÉTRICOS, COM SEÇÃO DE ATÉ 2,5 MM², DE FORMA MANUAL, SEM REAPROVEITAMENTO. AF_09/2023 | F39: M | I39: 0.3375 | J39: 0 | K39: =I39+J39 -> 0.3375 | L39: 0.2519 | M39: =IFERROR(IF(L39="-",(ROUND(K39,2)),(ROUND(K39*(1+L39),2))),"-") -> 0.42 | O39: =IF(AND($H39=0,$J39=0),$Q39,IF(I39=0,0,IF($L39<>"-",IFERROR(TRUNC(TRUNC((I39*(1+$L39)),2)*$G39,2),0),IFERROR(TRUNC(I39*$G39,2),0)))) -> 0 | P39: =IF(J39=0,0,Q39-O39-N39) -> 0 | Q39: =IFERROR(ROUND(ROUND(M39,2)*ROUND(G39,2),2),0) -> 0 | T39: =B39 -> 3.2 | U39: =IF(J39=0,Q39-O39) -> 0 | X39: =IFERROR(IF(OR($D39="ANP",$D39="DAER",$D39="CONSULTORIA DNIT",$D39="PREGÃO ELETRÔNICO",$D39="DMLU",$D39="DMAE",$D39="CEEE",$D39="EPTC",$D39="ORSE",$D39="SEINFRA",$D39="CREA",$D39="CAU",$D39="CEHOP",$D39="SIURB",$D39="DER-PR",$D39="SUDECAP",$D39=#REF!,$D39=#REF!),VLOOKUP($C39,#REF!,7,FALSE),IF($D39="INDEXADO",VLOOKUP($C39,#REF!,17,FALSE),IF($D39="CCU",VLOOKUP($C39,#REF!,6,FALSE),IF($D39="MERCADO",VLOOKUP(PE_243_2026!$C39,#REF!,8,FALSE),IF($D39="PLEO",VLOOKUP($C39,#REF!,4,FALSE),IF($D39="SICRO",VLOOKUP($C39,#REF!,6,FALSE),IF($D39="SINAPI",IFERROR((VLOOKUP($C39,#REF!,5,FALSE)),"-"),"-"))))))),0) -> 0 | Y39: =IF(OR($D39="ANP",$D39="DAER",$D39="CONSULTORIA DNIT",$D39="PREGÃO ELETRÔNICO",$D39="DMLU",$D39="DMAE",$D39="CEEE",$D39="EPTC",$D39="ORSE",$D39="SEINFRA",$D39="CREA",$D39="CAU",$D39="CEHOP",$D39="SIURB",$D39="DER-PR",$D39="SUDECAP",$D39=#REF!,$D39=#REF!),VLOOKUP($C39,#REF!,8,FALSE),IF($D39="INDEXADO",VLOOKUP($C39,#REF!,18,FALSE),IF($D39="CCU",VLOOKUP($C39,#REF!,7,FALSE),IF($D39="MERCADO",VLOOKUP(PE_243_2026!$C39,#REF!,9,FALSE),IF($D39="PLEO",VLOOKUP($C39,#REF!,4,FALSE),IF($D39="SICRO",VLOOKUP($C39,#REF!,7,FALSE),IF($D39="SINAPI",IFERROR((VLOOKUP($C39,#REF!,6,FALSE)),(VLOOKUP($C39,#REF!,27,FALSE))),"-"))))))) -> #REF! | Z39: 0.41 | AA39: =M39-Z39 -> 0.01 | AB39: =M39*G39 -> 0 | AC39: =AA39*G39 -> 0
B40: 3.3 | C40: CCU-56 | D40: CCU | E40: REMOÇÃO DE CABOS DE MÉDIA TENSÃO, SEM REAPROVEITAMENTO, INCLUÍDA REMOÇÃO DA EQUIPAGEM | F40: M | I40: 8.79 | J40: 0 | K40: =I40+J40 -> 8.79 | L40: 0.2519 | M40: =IFERROR(IF(L40="-",(ROUND(K40,2)),(ROUND(K40*(1+L40),2))),"-") -> 11 | O40: =IF(AND($H40=0,$J40=0),$Q40,IF(I40=0,0,IF($L40<>"-",IFERROR(TRUNC(TRUNC((I40*(1+$L40)),2)*$G40,2),0),IFERROR(TRUNC(I40*$G40,2),0)))) -> 0 | P40: =IF(J40=0,0,Q40-O40-N40) -> 0 | Q40: =IFERROR(ROUND(ROUND(M40,2)*ROUND(G40,2),2),0) -> 0 | T40: =B40 -> 3.3 | U40: =IF(J40=0,Q40-O40) -> 0 | X40: =IFERROR(IF(OR($D40="ANP",$D40="DAER",$D40="CONSULTORIA DNIT",$D40="PREGÃO ELETRÔNICO",$D40="DMLU",$D40="DMAE",$D40="CEEE",$D40="EPTC",$D40="ORSE",$D40="SEINFRA",$D40="CREA",$D40="CAU",$D40="CEHOP",$D40="SIURB",$D40="DER-PR",$D40="SUDECAP",$D40=#REF!,$D40=#REF!),VLOOKUP($C40,#REF!,7,FALSE),IF($D40="INDEXADO",VLOOKUP($C40,#REF!,17,FALSE),IF($D40="CCU",VLOOKUP($C40,#REF!,6,FALSE),IF($D40="MERCADO",VLOOKUP(PE_243_2026!$C40,#REF!,8,FALSE),IF($D40="PLEO",VLOOKUP($C40,#REF!,4,FALSE),IF($D40="SICRO",VLOOKUP($C40,#REF!,6,FALSE),IF($D40="SINAPI",IFERROR((VLOOKUP($C40,#REF!,5,FALSE)),"-"),"-"))))))),0) -> 0 | Y40: =IF(OR($D40="ANP",$D40="DAER",$D40="CONSULTORIA DNIT",$D40="PREGÃO ELETRÔNICO",$D40="DMLU",$D40="DMAE",$D40="CEEE",$D40="EPTC",$D40="ORSE",$D40="SEINFRA",$D40="CREA",$D40="CAU",$D40="CEHOP",$D40="SIURB",$D40="DER-PR",$D40="SUDECAP",$D40=#REF!,$D40=#REF!),VLOOKUP($C40,#REF!,8,FALSE),IF($D40="INDEXADO",VLOOKUP($C40,#REF!,18,FALSE),IF($D40="CCU",VLOOKUP($C40,#REF!,7,FALSE),IF($D40="MERCADO",VLOOKUP(PE_243_2026!$C40,#REF!,9,FALSE),IF($D40="PLEO",VLOOKUP($C40,#REF!,4,FALSE),IF($D40="SICRO",VLOOKUP($C40,#REF!,7,FALSE),IF($D40="SINAPI",IFERROR((VLOOKUP($C40,#REF!,6,FALSE)),(VLOOKUP($C40,#REF!,27,FALSE))),"-"))))))) -> #REF! | Z40: 10.99 | AA40: =M40-Z40 -> 0.01 | AB40: =M40*G40 -> 0 | AC40: =AA40*G40 -> 0
B41: 3.4 | C41: CCU-13 | D41: CCU | E41: COLOCAÇÃO DE CRUZETA POLIMÉRICA EM FIBRA DE VIDRO CLASSE 15KV 90X90X2000 MM - FORNECIMENTO E COLOCAÇÃO | F41: UN | I41: 44.01 | J41: 521.1825 | K41: =I41+J41 -> 565.1925 | L41: 0.2519 | M41: =IFERROR(IF(L41="-",(ROUND(K41,2)),(ROUND(K41*(1+L41),2))),"-") -> 707.56 | O41: =IF(AND($H41=0,$J41=0),$Q41,IF(I41=0,0,IF($L41<>"-",IFERROR(TRUNC(TRUNC((I41*(1+$L41)),2)*$G41,2),0),IFERROR(TRUNC(I41*$G41,2),0)))) -> 0 | P41: =IF(J41=0,0,Q41-O41-N41) -> 0 | Q41: =IFERROR(ROUND(ROUND(M41,2)*ROUND(G41,2),2),0) -> 0 | T41: =B41 -> 3.4 | U41: =IF(J41=0,Q41-O41) -> FALSE | X41: =IFERROR(IF(OR($D41="ANP",$D41="DAER",$D41="CONSULTORIA DNIT",$D41="PREGÃO ELETRÔNICO",$D41="DMLU",$D41="DMAE",$D41="CEEE",$D41="EPTC",$D41="ORSE",$D41="SEINFRA",$D41="CREA",$D41="CAU",$D41="CEHOP",$D41="SIURB",$D41="DER-PR",$D41="SUDECAP",$D41=#REF!,$D41=#REF!),VLOOKUP($C41,#REF!,7,FALSE),IF($D41="INDEXADO",VLOOKUP($C41,#REF!,17,FALSE),IF($D41="CCU",VLOOKUP($C41,#REF!,6,FALSE),IF($D41="MERCADO",VLOOKUP(PE_243_2026!$C41,#REF!,8,FALSE),IF($D41="PLEO",VLOOKUP($C41,#REF!,4,FALSE),IF($D41="SICRO",VLOOKUP($C41,#REF!,6,FALSE),IF($D41="SINAPI",IFERROR((VLOOKUP($C41,#REF!,5,FALSE)),"-"),"-"))))))),0) -> 0 | Y41: =IF(OR($D41="ANP",$D41="DAER",$D41="CONSULTORIA DNIT",$D41="PREGÃO ELETRÔNICO",$D41="DMLU",$D41="DMAE",$D41="CEEE",$D41="EPTC",$D41="ORSE",$D41="SEINFRA",$D41="CREA",$D41="CAU",$D41="CEHOP",$D41="SIURB",$D41="DER-PR",$D41="SUDECAP",$D41=#REF!,$D41=#REF!),VLOOKUP($C41,#REF!,8,FALSE),IF($D41="INDEXADO",VLOOKUP($C41,#REF!,18,FALSE),IF($D41="CCU",VLOOKUP($C41,#REF!,7,FALSE),IF($D41="MERCADO",VLOOKUP(PE_243_2026!$C41,#REF!,9,FALSE),IF($D41="PLEO",VLOOKUP($C41,#REF!,4,FALSE),IF($D41="SICRO",VLOOKUP($C41,#REF!,7,FALSE),IF($D41="SINAPI",IFERROR((VLOOKUP($C41,#REF!,6,FALSE)),(VLOOKUP($C41,#REF!,27,FALSE))),"-"))))))) -> #REF! | Z41: 707.56 | AA41: =M41-Z41 -> 0 | AB41: =M41*G41 -> 0 | AC41: =AA41*G41 -> 0
...
